BEGIN:VCALENDAR
VERSION:2.0
PRODID:-//CVX Arrupe Elkartea - ECPv5.14.0.2//NONSGML v1.0//EN
CALSCALE:GREGORIAN
METHOD:PUBLISH
X-WR-CALNAME:CVX Arrupe Elkartea
X-ORIGINAL-URL:https://cvxarrupe.org
X-WR-CALDESC:Eventos para CVX Arrupe Elkartea
REFRESH-INTERVAL;VALUE=DURATION:PT1H
X-Robots-Tag:noindex
X-PUBLISHED-TTL:PT1H
BEGIN:VTIMEZONE
TZID:Europe/Madrid
BEGIN:DAYLIGHT
TZOFFSETFROM:+0100
TZOFFSETTO:+0200
TZNAME:CEST
DTSTART:20230326T010000
END:DAYLIGHT
BEGIN:STANDARD
TZOFFSETFROM:+0200
TZOFFSETTO:+0100
TZNAME:CET
DTSTART:20231029T010000
END:STANDARD
END:VTIMEZONE
BEGIN:VEVENT
DTSTART;TZID=Europe/Madrid:20230305T120000
DTEND;TZID=Europe/Madrid:20230305T130000
DTSTAMP:20260421T154511
CREATED:20230222T182351Z
LAST-MODIFIED:20230414T181452Z
UID:753-1678017600-1678021200@cvxarrupe.org
SUMMARY:Concentración de la Revuelta de Mujeres en la Iglesia
DESCRIPTION:Venimos de lejos\, somos muchas\, y alzamos la voz para decir «basta» y exigir una Iglesia nueva\, que este año da un nuevo paso adelante. \n\n\n\nLa Revuelta de Mujeres en la Iglesia convocaba a actos públicos reivindicativos en otras 17 ciudades más: Vitoria-Gasteiz\, Madrid\, Barcelona\, Burgos\, Ciutadella\, Córdoba\, Granada\, Huelva\, Las Palmas\, Logroño\, Oviedo\, Santander\, Santiago de Compostela\, Sevilla\, Valencia\, Vigo y Zaragoza. Reivindicación y celebración del caminar de todas las mujeres que a lo largo de XX siglos de historia han construido la Iglesia.  \n\n\n\n \n\n\n\nEn todas las concentraciones se leía el manifiesto de la Revuelta\, en el que declaramos que venimos de lejos\, que somos muchas las que decimos ¡Basta ya! y que estamos dispuestas a imaginar y construir una nueva Iglesia\, más plural y menos jerárquica\, que acompaña sin juzgar\, en la que los liderazgos sean compartidos.  \n\n\n\n \n\n\n\nIMAGINAMOS Y CONSTRUIMOS UNA IGLESIA NUEVA \n\n\n\n\nUna Iglesia que es comunidad de iguales\, donde la mujer es reconocida como sujeto de pleno derecho\, con voz y voto en todas partes\, donde la mujer es valorada por los propios talentos\, carismas y aportaciones a las comunidades.\n\n\n\nUna Iglesia donde el liderazgo es compartido entre mujeres y hombres\, laicos\, laicas\, personas consagradas y sacerdotes. Una iglesia paritaria\, más plural y menos jerárquica.\n\n\n\nUna Iglesia que acompaña sin juzgar toda la diversidad de las familias\, de identidades y orientaciones sexuales.\n\n\n\nUna Iglesia donde las mujeres ya somos y nos reconocernos en autoridad y liderazgo.\n\n\n\nUna Iglesia que ya hoy es semilla de futuro.\n\n\n\n\n\n\n\n\nVENIMOS DE LEJOS \n\n\n\nVenimos de una larga tradición feminista que ha luchado por la dignidad de las mujeres\, que ha exigido la igualdad de derechos\, poder votar\, libertad sexual y reproductiva\, y en el siglo XXI se reconoce diversa\, se muestra con una fuerza joven y renovada\, y hoy volvemos a salir a la calle para alzar la voz y decir basta. \n\n\n\nVenimos de las mujeres valientes y libres de las primeras comunidades cristianas\, y de todas las que a lo largo de la historia se han negado a quedar recluidas en los roles secundarios e invisibilizados a los que la tradición eclesial y teológica las quería someter. \n\n\n\nVenimos de la buena noticia de un Jesús que transgrede las normas de una sociedad profundamente patriarcal. Venimos de una Iglesia que en sus inicios hizo de la igualdad entre hombres y mujeres una de las aportaciones más radicales del cristianismo a la historia de la humanidad ¡Recuperémosla! \n\n\n\nSOMOS MUCHAS \n\n\n\nSomos muchas las que en todo el mundo alzamos la voz. \n\n\n\nSomos mayoría en las tareas de voluntariado\, en las celebraciones religiosas\, como catequistas\, en los consejos parroquiales. \n\n\n\nSomos muchas en los movimientos\, asociaciones\, centros recreativos y en el mundo educativo de la infancia y juventud.  Son incontables las congregaciones de religiosas que trabajan día a día por los derechos de las personas más vulnerables. \n\n\n\n¿Quién constituye una parte importante de la Iglesia en el siglo XXI? ¡Nosotras! \n\n\n\n \n\n\n\nDECIMOS BASTA \n\n\n\n\nDecimos basta a ser invisibilizadas y silenciadas.\n\n\n\nDecimos basta a ser tratadas con condescendencia como si fuéramos menores de edad.\n\n\n\nDecimos basta a la discriminación por razón del sexo o del género. ¿Cuántas mujeres vemos representando la institución? ¿Cuántas pueden tomar parte en la toma de las decisiones? ¿Cuántas teólogas trabajan en las facultades de teología\, cuántas acompañan espiritualmente\, cuántas son formadoras de los seminarios?\n\n\n\nDecimos basta a que se nos niegue el sacerdocio debido a nuestro cuerpo\, un cuerpo que siempre está bajo sospecha.\n\n\n\nBasta a una visión negativa de  la sexualidad que crea  sufrimiento.\n\n\n\nBasta a una imagen de un Dios exclusivamente masculino\n\n\n\n\n\n\n\n\n\n\n \n\n\n\n\n\n \n\n\n\n\n\n\n\n\n\n\n\nLectura del manifiesto de la Revuelta de Mujeres el 5 de marzo en la iglesia de San Nicolás.\n\n\n\n\n\nDurante la convocatoria los zapatos han sido el símbolo de las huellas de quienes han caminado y siguen caminando por una Iglesia libre de clericalismo\, que apuesta por la igualdad\, que rompe con el patriarcado para construir la comunidad de los hijos de Dios.
URL:https://cvxarrupe.org/actividad/concentracion-de-la-revuelta-de-mujeres-en-la-iglesia/
LOCATION:Iglesia de San Nicolás\, San Nikolas Plazatxoa\, s/n\, Bilbao\, Bizkaia\, 48006\, España
ATTACH;FMTTYPE=image/jpeg:https://cvxarrupe.org/wp-content/uploads/2023/02/IMG-20230305-WA0005-3.jpg
END:VEVENT
END:VCALENDAR